BEGIN:VCALENDAR
VERSION:2.0
PRODID:icalendar-ruby
CALSCALE:GREGORIAN
METHOD:PUBLISH
BEGIN:VEVENT
DTSTAMP:20260421T135013Z
UID:44-2634119@stjohnslutherannorry.org
DTSTART:20260104T140000Z
DTEND:20260104T150000Z
CLASS:PUBLIC
CREATED:20260421T092619
DESCRIPTION:View online services
LAST-MODIFIED:20260421T092619
LOCATION:
SUMMARY:Worship with Communion
URL;VALUE=URI:https://www.stjohnslutherannorry.org/events/worship-with-comm
 union/2026-01-04
ATTACH;FILENAME=4278B545-B486-4B9D-9F04-2E5191B1750A.jpeg;FMTTYPE=image/jpe
 g:https://dq5pwpg1q8ru0.cloudfront.net/2021/08/17/20/40/30/08d73f4f-8bd8-4
 b97-9735-ed21b664eb29/4278B545-B486-4B9D-9F04-2E5191B1750A.jpeg
ATTACH;FILENAME=ACV7OpJ3LPHNssuWjS4atRa-lGf75JN6HxZvRYQMeiLev4csVNXw5UnrcFZ
 3JBJz8VouP4HT056WYKSHFA-ObdezM0oLBqLGe9OvE1IUtlYpFTAUVapWsyk61tnI34aGRA~~.
 jpg;FMTTYPE=image/jpeg:https://dq5pwpg1q8ru0.cloudfront.net/2021/12/02/07/
 40/43/5b75ba90-2721-4907-b1d1-fee58464c312/ACV7OpJ3LPHNssuWjS4atRa-lGf75JN
 6HxZvRYQMeiLev4csVNXw5UnrcFZ3JBJz8VouP4HT056WYKSHFA-ObdezM0oLBqLGe9OvE1IUt
 lYpFTAUVapWsyk61tnI34aGRA~~.jpg
END:VEVENT
END:VCALENDAR
