BEGIN:VCALENDAR
VERSION:2.0
PRODID:icalendar-ruby
CALSCALE:GREGORIAN
METHOD:PUBLISH
BEGIN:VEVENT
DTSTAMP:20260424T155038Z
UID:102-2659990@stjohnslutherannorry.org
DTSTART:20261104T233000Z
DTEND:20261105T003000Z
CLASS:PUBLIC
CREATED:20260424T095116
DESCRIPTION:
LAST-MODIFIED:20260424T095116
LOCATION:St Johns
SUMMARY:Cub Scouts
URL;VALUE=URI:https://www.stjohnslutherannorry.org/events/cub-scouts/2026-1
 1-04
END:VEVENT
END:VCALENDAR
