BEGIN:VCALENDAR
VERSION:2.0
PRODID:icalendar-ruby
CALSCALE:GREGORIAN
METHOD:PUBLISH
BEGIN:VEVENT
DTSTAMP:20260424T140720Z
UID:102-2659989@stjohnslutherannorry.org
DTSTART:20261028T223000Z
DTEND:20261028T233000Z
CLASS:PUBLIC
CREATED:20260424T095116
DESCRIPTION:
LAST-MODIFIED:20260424T095116
LOCATION:St Johns
SUMMARY:Cub Scouts
URL;VALUE=URI:https://www.stjohnslutherannorry.org/events/cub-scouts/2026-1
 0-28
END:VEVENT
END:VCALENDAR
