BEGIN:VCALENDAR
VERSION:2.0
PRODID:icalendar-ruby
CALSCALE:GREGORIAN
METHOD:PUBLISH
BEGIN:VEVENT
DTSTAMP:20260424T124407Z
UID:102-2658569@stjohnslutherannorry.org
DTSTART:20261021T223000Z
DTEND:20261021T233000Z
CLASS:PUBLIC
CREATED:20260424T065651
DESCRIPTION:
LAST-MODIFIED:20260424T065651
LOCATION:St Johns
SUMMARY:Cub Scouts
URL;VALUE=URI:https://www.stjohnslutherannorry.org/events/cub-scouts/2026-1
 0-21
END:VEVENT
END:VCALENDAR
