BEGIN:VCALENDAR
VERSION:2.0
PRODID:icalendar-ruby
CALSCALE:GREGORIAN
METHOD:PUBLISH
BEGIN:VEVENT
DTSTAMP:20260422T090948Z
UID:102-2640159@stjohnslutherannorry.org
DTSTART:20260930T223000Z
DTEND:20260930T233000Z
CLASS:PUBLIC
CREATED:20260421T195730
DESCRIPTION:
LAST-MODIFIED:20260421T195730
LOCATION:St Johns
SUMMARY:Cub Scouts
URL;VALUE=URI:https://www.stjohnslutherannorry.org/events/cub-scouts/2026-0
 9-30
END:VEVENT
END:VCALENDAR
