BEGIN:VCALENDAR
VERSION:2.0
PRODID:icalendar-ruby
CALSCALE:GREGORIAN
METHOD:PUBLISH
BEGIN:VEVENT
DTSTAMP:20260424T082934Z
UID:102-2657145@stjohnslutherannorry.org
DTSTART:20260916T223000Z
DTEND:20260916T233000Z
CLASS:PUBLIC
CREATED:20260423T212908
DESCRIPTION:
LAST-MODIFIED:20260423T212908
LOCATION:St Johns
SUMMARY:Cub Scouts
URL;VALUE=URI:https://www.stjohnslutherannorry.org/events/cub-scouts/2026-0
 9-16
END:VEVENT
END:VCALENDAR
