BEGIN:VCALENDAR
VERSION:2.0
PRODID:icalendar-ruby
CALSCALE:GREGORIAN
METHOD:PUBLISH
BEGIN:VEVENT
DTSTAMP:20260422T025741Z
UID:102-2640155@stjohnslutherannorry.org
DTSTART:20260902T223000Z
DTEND:20260902T233000Z
CLASS:PUBLIC
CREATED:20260421T195730
DESCRIPTION:
LAST-MODIFIED:20260421T195730
LOCATION:St Johns
SUMMARY:Cub Scouts
URL;VALUE=URI:https://www.stjohnslutherannorry.org/events/cub-scouts/2026-0
 9-02
END:VEVENT
END:VCALENDAR
