BEGIN:VCALENDAR
VERSION:2.0
PRODID:icalendar-ruby
CALSCALE:GREGORIAN
METHOD:PUBLISH
BEGIN:VEVENT
DTSTAMP:20260421T222045Z
UID:102-2638738@stjohnslutherannorry.org
DTSTART:20260812T223000Z
DTEND:20260812T233000Z
CLASS:PUBLIC
CREATED:20260421T171853
DESCRIPTION:
LAST-MODIFIED:20260421T171853
LOCATION:St Johns
SUMMARY:Cub Scouts
URL;VALUE=URI:https://www.stjohnslutherannorry.org/events/cub-scouts/2026-0
 8-12
END:VEVENT
END:VCALENDAR
