BEGIN:VCALENDAR
VERSION:2.0
PRODID:icalendar-ruby
CALSCALE:GREGORIAN
METHOD:PUBLISH
BEGIN:VEVENT
DTSTAMP:20260421T204954Z
UID:102-2637323@stjohnslutherannorry.org
DTSTART:20260805T223000Z
DTEND:20260805T233000Z
CLASS:PUBLIC
CREATED:20260421T144210
DESCRIPTION:
LAST-MODIFIED:20260421T144210
LOCATION:St Johns
SUMMARY:Cub Scouts
URL;VALUE=URI:https://www.stjohnslutherannorry.org/events/cub-scouts/2026-0
 8-05
END:VEVENT
END:VCALENDAR
