BEGIN:VCALENDAR
VERSION:2.0
PRODID:icalendar-ruby
CALSCALE:GREGORIAN
METHOD:PUBLISH
BEGIN:VEVENT
DTSTAMP:20260422T163149Z
UID:46-2642913@stjohnslutherannorry.org
DTSTART:20261101T150000Z
DTEND:20261101T160000Z
CLASS:PUBLIC
CREATED:20260422T095047
DESCRIPTION:Children's and Adult Sunday School
LAST-MODIFIED:20260422T095047
LOCATION:
SUMMARY:Children's and Adult Sunday School 
URL;VALUE=URI:https://www.stjohnslutherannorry.org/events/childrens-and-adu
 lt-sunday-school/2026-11-01
END:VEVENT
END:VCALENDAR
