BEGIN:VCALENDAR
VERSION:2.0
PRODID:icalendar-ruby
CALSCALE:GREGORIAN
METHOD:PUBLISH
BEGIN:VEVENT
DTSTAMP:20260422T114627Z
UID:46-2641495@stjohnslutherannorry.org
DTSTART:20261011T140000Z
DTEND:20261011T150000Z
CLASS:PUBLIC
CREATED:20260422T065608
DESCRIPTION:Children's and Adult Sunday School
LAST-MODIFIED:20260422T065608
LOCATION:
SUMMARY:Children's and Adult Sunday School 
URL;VALUE=URI:https://www.stjohnslutherannorry.org/events/childrens-and-adu
 lt-sunday-school/2026-10-11
END:VEVENT
END:VCALENDAR
