BEGIN:VCALENDAR
VERSION:2.0
PRODID:icalendar-ruby
CALSCALE:GREGORIAN
METHOD:PUBLISH
BEGIN:VEVENT
DTSTAMP:20260422T102654Z
UID:46-2640079@stjohnslutherannorry.org
DTSTART:20261004T140000Z
DTEND:20261004T150000Z
CLASS:PUBLIC
CREATED:20260421T195730
DESCRIPTION:Children's and Adult Sunday School
LAST-MODIFIED:20260421T195730
LOCATION:
SUMMARY:Children's and Adult Sunday School 
URL;VALUE=URI:https://www.stjohnslutherannorry.org/events/childrens-and-adu
 lt-sunday-school/2026-10-04
END:VEVENT
END:VCALENDAR
